BEGIN:VCALENDAR
VERSION:2.0
PRODID:-//Library Market//iCal Export//EN
BEGIN:VEVENT
SUMMARY:*Saturday* Art Explorers
UID:9084
DTSTAMP:20260420T000900Z
DTSTART:20260502T150000Z
DTEND:20260502T160000Z
LOCATION:115 Alford Street, LaGrange, GA 30240, United States
ROOM: Storytime Stairs
DESCRIPTION:Join us in the Messy Lab (inside the Children’s Library) as 
 we introduce young learners to different art styles and techniques that th
 ey can do!May&#039;s subject will be cardboard art, and we will practice u
 sing the library&#039;s new Beaverbot!
URL:https://thrl.librarycalendar.com/event/saturday-art-explorers-9084
END:VEVENT
END:VCALENDAR
