BEGIN:VCALENDAR
VERSION:2.0
PRODID:-//Library Market//iCal Export//EN
BEGIN:VEVENT
SUMMARY:LaGrange Board Game Society
UID:8876
DTSTAMP:20260420T000900Z
DTSTART:20260502T040000Z
DTEND:20260502T040000Z
LOCATION:115 Alford Street, LaGrange, GA 30240, United States
ROOM: Community Room
DESCRIPTION:Join us for board games, card games, and chess! Open to all ag
 es.Please note that this program is sponsored and conducted by the LaGrang
 e Board Game Society.
URL:https://thrl.librarycalendar.com/event/lagrange-board-game-society-887
 6
END:VEVENT
END:VCALENDAR
