BEGIN:VCALENDAR
VERSION:2.0
PRODID:-//Library Market//iCal Export//EN
BEGIN:VEVENT
SUMMARY:May the 4th Be With You
UID:8697
DTSTAMP:20260420T070400Z
DTSTART:20260504T040000Z
DTEND:20260504T040000Z
LOCATION:7511 Georgia Highway 116, Hamilton, GA 31811, United States
ROOM: Meeting Room Large (1 &amp; 2)
DESCRIPTION:Join us for May the 4th Be With you, a special Star Wars-them
 ed library event where the dark side and the light collide for an epic cel
 ebration! Whether you’re a Jedi, a Sith, or just a casual fan, there’s
  something for everyone in this galaxy not so far away.  This drop-in e
 vent is perfect for Star Wars fans of all ages! No need to travel to Tatoo
 ine—just visit the library and celebrate the Force with us. 
URL:https://thrl.librarycalendar.com/event/may-4th-be-you-8697
END:VEVENT
END:VCALENDAR
