BEGIN:VCALENDAR
VERSION:2.0
PRODID:-//Library Market//iCal Export//EN
BEGIN:VEVENT
SUMMARY:Art on the Lawn
UID:8638
DTSTAMP:20260425T220800Z
DTSTART:20260710T200000Z
DTEND:20260710T210000Z
LOCATION:115 Alford Street, LaGrange, GA 30240, United States
ROOM: Art on the Lawn
DESCRIPTION:Art on the Lawn is a new program for adults who want to get cr
 afty but also enjoy the lovely weather. Don&#039;t worry, we can always mo
 ve inside if it&#039;s rainy or too hot. Join us this month in painting te
 rra cotta pots for a seedling. All materials provided, just bring yourself
  and a blanket or towel to sit on! Registration is required for this progr
 am. Available for our adult patrons at the LaGrange Memorial Library on Fr
 iday, July 10, 2026 from 4 - 5 PM.
URL:https://thrl.librarycalendar.com/event/art-lawn-8638
END:VEVENT
END:VCALENDAR
