BEGIN:VCALENDAR
VERSION:2.0
PRODID:-//Library Market//iCal Export//EN
BEGIN:VEVENT
SUMMARY:Gentle Exercise for Adults
UID:8605
DTSTAMP:20260424T040200Z
DTSTART:20260721T173000Z
DTEND:20260721T183000Z
LOCATION:115 Alford Street, LaGrange, GA 30240, United States
ROOM: Community Room
DESCRIPTION:Feeling tired and sore? Do your joints predict the weather? Or
  are you just beginning on your exercise journey? No worries. Your LaGrang
 e Memorial Library has you covered! Let&#039;s do some gentle stretching e
 xercises with standing optional. We will work on healthy habits together. 
 Join us in the Community Room on Tuesday afternoons from 1:30 - 2:30 PM.
URL:https://thrl.librarycalendar.com/event/adult-exercise-8605
END:VEVENT
END:VCALENDAR
