BEGIN:VCALENDAR
VERSION:2.0
PRODID:-//Library Market//iCal Export//EN
BEGIN:VEVENT
SUMMARY:Board Game Day
UID:8594
DTSTAMP:20260423T071400Z
DTSTART:20260611T180000Z
DTEND:20260611T194500Z
LOCATION:115 Alford Street, LaGrange, GA 30240, United States
ROOM: Community Room
DESCRIPTION:It&#039;s Board Game Day! Every 2nd and 4th Thursday we&#039;l
 l be meeting in the Community Room for some family fun. This event is free
  and available for families with younger children.
URL:https://thrl.librarycalendar.com/event/board-game-day-8594
END:VEVENT
END:VCALENDAR
