BEGIN:VCALENDAR
VERSION:2.0
PRODID:-//Library Market//iCal Export//EN
BEGIN:VEVENT
SUMMARY:Cozy Crafters for Adults
UID:8591
DTSTAMP:20260425T220800Z
DTSTART:20260702T220000Z
DTEND:20260702T230000Z
LOCATION:115 Alford Street, LaGrange, GA 30240, United States
ROOM: Creation Station
DESCRIPTION:Tap into your creative side and create a transparent flower bo
 okmark! All materials provided, just bring yourself! Available for our adu
 lt patrons. Registration is required for this program.
URL:https://thrl.librarycalendar.com/event/cozy-crafters-8591
END:VEVENT
END:VCALENDAR
