BEGIN:VCALENDAR
VERSION:2.0
PRODID:-//Library Market//iCal Export//EN
BEGIN:VEVENT
SUMMARY:Cozy Crafters for Adults
UID:8590
DTSTAMP:20260424T105100Z
DTSTART:20260618T220000Z
DTEND:20260618T230000Z
LOCATION:115 Alford Street, LaGrange, GA 30240, United States
ROOM: Creation Station
DESCRIPTION:This time at Cozy Crafters, we&#039;re making ambient lamps wi
 th pressed flowers and tissue paper! All materials are provided, just brin
 g yourself! This program is available for our adult patrons. Registration 
 is required for this program.
URL:https://thrl.librarycalendar.com/event/cozy-crafter-8590
END:VEVENT
END:VCALENDAR
