BEGIN:VCALENDAR
VERSION:2.0
PRODID:-//Library Market//iCal Export//EN
BEGIN:VEVENT
SUMMARY:Cozy Crafters for Adults
UID:8589
DTSTAMP:20260425T220800Z
DTSTART:20260604T220000Z
DTEND:20260604T230000Z
LOCATION:115 Alford Street, LaGrange, GA 30240, United States
ROOM: Creation Station
DESCRIPTION:Want your own personalized tote bag? Join us at the LaGrange M
 emorial Library to paint and customize canvas tote bags! All supplies will
  be provided, just bring yourself! Available for our adult patrons. Regist
 ration is required for this program.
URL:https://thrl.librarycalendar.com/event/cozy-crafter-8589
END:VEVENT
END:VCALENDAR
