BEGIN:VCALENDAR
VERSION:2.0
PRODID:-//Library Market//iCal Export//EN
BEGIN:VEVENT
SUMMARY:T(w)een Dungeons &amp; Dragons One-Shot Campaign
UID:8523
DTSTAMP:20260424T204500Z
DTSTART:20260627T170000Z
DTEND:20260627T194500Z
LOCATION:115 Alford Street, LaGrange, GA 30240, United States
ROOM: Community Room
DESCRIPTION:Get ready to roll for initiative!This event is open to middle 
 and high school students, and registration is required to participate in t
 his program. No experience necessary. Registration through our calendar i
 s required. After you have registered through the calendar, please also f
 ill out a Beginning Dungeons &amp; Dragons Google form to register. This o
 nly needs to be completed once! If you&#039;ve already completed the Googl
 e form, you don&#039;t need to fill it out again. This can be found online
  here: https://forms.gle/Lbb8iocX4nrhRmfq8 
URL:https://thrl.librarycalendar.com/event/tween-dungeons-dragons-one-shot
 -campaign-8523
END:VEVENT
END:VCALENDAR
