BEGIN:VCALENDAR
VERSION:2.0
PRODID:-//Library Market//iCal Export//EN
BEGIN:VEVENT
SUMMARY:Ink &amp; Ideas: Writer&#039;s Workshop
UID:8492
DTSTAMP:20260423T071400Z
DTSTART:20260611T220000Z
DTEND:20260611T233000Z
LOCATION:115 Alford Street, LaGrange, GA 30240, United States
ROOM: Computer Training Lab
DESCRIPTION:Working on a piece of writing and want to see what others thin
 k? Join us at the LaGrange Memorial Library for Ink &amp; Ideas, a new wri
 ter&#039;s workshop! Bring your latest WIP to discuss, try your hand at so
 me writing prompts and challenges, and get feedback on your work! Availab
 le for our adult writers.
URL:https://thrl.librarycalendar.com/event/ink-ideas-writers-workshop-8492
END:VEVENT
END:VCALENDAR
