BEGIN:VCALENDAR
VERSION:2.0
PRODID:-//Library Market//iCal Export//EN
BEGIN:VEVENT
SUMMARY:T(w)een Dungeons &amp; Dragons One-Shot Campaign
UID:8489
DTSTAMP:20260424T204500Z
DTSTART:20260711T170000Z
DTEND:20260711T194500Z
LOCATION:115 Alford Street, LaGrange, GA 30240, United States
ROOM: Community Room
DESCRIPTION:Get ready to roll for initiative! We are so super excited for 
 our very first Teen Dungeons &amp; Dragons campaign!This event is open to 
 middle and high school students, and registration is required to participa
 te in this program. No experience necessary. Each participant MUST fill o
 ut a Beginning Dungeons &amp; Dragons form to register. This can be found 
 online here: https://forms.gle/Lbb8iocX4nrhRmfq8 Please have your form fi
 lled out by Friday, February 13th so that our Dungeon Masters can begin pl
 anning! For any questions, feel free to reach out to us at 706-882-7784.
URL:https://thrl.librarycalendar.com/event/tween-dungeons-dragons-one-shot
 -campaign-8489
END:VEVENT
END:VCALENDAR
