BEGIN:VCALENDAR
VERSION:2.0
PRODID:-//Library Market//iCal Export//EN
BEGIN:VEVENT
SUMMARY:Library Camp
UID:8481
DTSTAMP:20260423T082800Z
DTSTART:20260612T150000Z
DTEND:20260612T160000Z
LOCATION:115 Alford Street, LaGrange, GA 30240, United States
ROOM: Community Room
DESCRIPTION:Join us this summer for Library Camp!We&#039;re meeting up in 
 our Community Room every Friday in June and July from 11 AM - 12 PM for ga
 mes, crafts, and fun! This event is free and open to children ages 6 - 11
 . No registration required. All materials provided, just bring yourself!
URL:https://thrl.librarycalendar.com/event/library-camp-8481
END:VEVENT
END:VCALENDAR
