BEGIN:VCALENDAR
VERSION:2.0
PRODID:-//Library Market//iCal Export//EN
BEGIN:VEVENT
SUMMARY:LEGO Day
UID:8469
DTSTAMP:20260424T040200Z
DTSTART:20260717T180000Z
DTEND:20260717T190000Z
LOCATION:115 Alford Street, LaGrange, GA 30240, United States
ROOM: Community Room
DESCRIPTION:It&#039;s LEGO Day here at the library! We&#039;re breaking ou
 t the LEGO sets, Duplo blocks, and magnatiles for some engineering fun! Th
 is program is free and available for children and their families.
URL:https://thrl.librarycalendar.com/event/lego-day-8469
END:VEVENT
END:VCALENDAR
