BEGIN:VCALENDAR
VERSION:2.0
PRODID:-//Library Market//iCal Export//EN
BEGIN:VEVENT
SUMMARY:Teen Time
UID:8455
DTSTAMP:20260423T071400Z
DTSTART:20260611T200000Z
DTEND:20260611T210000Z
LOCATION:115 Alford Street, LaGrange, GA 30240, United States
ROOM: Community Room
DESCRIPTION:Come have some fun and make some friends! Available for t(w)ee
 ns ages 12 - 18.
URL:https://thrl.librarycalendar.com/event/teen-time-8455
END:VEVENT
END:VCALENDAR
