BEGIN:VCALENDAR
VERSION:2.0
PRODID:-//Library Market//iCal Export//EN
BEGIN:VEVENT
SUMMARY:Teen Time
UID:8454
DTSTAMP:20260423T082800Z
DTSTART:20260604T200000Z
DTEND:20260604T210000Z
LOCATION:115 Alford Street, LaGrange, GA 30240, United States
ROOM: Community Room
DESCRIPTION:Come have some fun and make some friends! Available for t(w)ee
 ns ages 12 - 18.
URL:https://thrl.librarycalendar.com/event/teen-time-8454
END:VEVENT
END:VCALENDAR
