BEGIN:VCALENDAR
VERSION:2.0
PRODID:-//Library Market//iCal Export//EN
BEGIN:VEVENT
SUMMARY:Bubbles with Babies! (&amp; Toddlers, too!)
UID:8410
DTSTAMP:20260423T082800Z
DTSTART:20260720T150000Z
DTEND:20260720T154500Z
LOCATION:115 Alford Street, LaGrange, GA 30240, United States
ROOM: Storytime Stairs
DESCRIPTION:Books, sing-a-longs, and bubbles!Join us as we build early lit
 eracy skills and enjoy a fun playtime together.Ages: Birth through 3 years
  old
URL:https://thrl.librarycalendar.com/event/bubbles-babies-toddlers-too-841
 0
END:VEVENT
END:VCALENDAR
