BEGIN:VCALENDAR
VERSION:2.0
PRODID:-//Library Market//iCal Export//EN
BEGIN:VEVENT
SUMMARY:Summer Reading Program: SRP PARTY
UID:8261
DTSTAMP:20260425T220800Z
DTSTART:20260729T170000Z
DTEND:20260729T180000Z
LOCATION:115 Alford Street, LaGrange, GA 30240, United States
ROOM: Community Room
DESCRIPTION:Summer Reading Program is at an end, and we are throwing a spe
 cial party for everyone who completed the challenge!You or your child must
  have completed the 2026 Summer Reading Challenge to attend. We will have 
 special prizes just for you!
URL:https://thrl.librarycalendar.com/event/summer-reading-program-srp-part
 y-8261
END:VEVENT
END:VCALENDAR
