BEGIN:VCALENDAR
VERSION:2.0
PRODID:-//Library Market//iCal Export//EN
BEGIN:VEVENT
SUMMARY:Summer Reading Program: Wild Animal Safari
UID:8260
DTSTAMP:20260424T105100Z
DTSTART:20260722T170000Z
DTEND:20260722T180000Z
LOCATION:115 Alford Street, LaGrange, GA 30240, United States
ROOM: Community Room
DESCRIPTION:Are you ready for even more animals!? Wild Animal Safari is st
 opping by with their furry, feathered, and scaly friends!Join us in the La
 Grange Memorial Library Community Room at 1 PM on Wednesdays for all your 
 Summer Reading Program fun!All Summer Reading Program events are free and 
 open to the public.Sign up for the Summer Reading Program at thrl.beanstac
 k.org!
URL:https://thrl.librarycalendar.com/event/summer-reading-program-wild-ani
 mal-safari-8260
END:VEVENT
END:VCALENDAR
