BEGIN:VCALENDAR
VERSION:2.0
PRODID:-//Library Market//iCal Export//EN
BEGIN:VEVENT
SUMMARY:Summer Reading Program: GA Untamed Zoo
UID:8258
DTSTAMP:20260425T172900Z
DTSTART:20260708T170000Z
DTEND:20260708T180000Z
LOCATION:115 Alford Street, LaGrange, GA 30240, United States
ROOM: Community Room
DESCRIPTION:Local favorite GA Untamed Zoo is bringing some amazing animals
  to the library!Join us in the LaGrange Memorial Library Community Room at
  1 PM on Wednesdays for all your Summer Reading Program fun!All Summer Rea
 ding Program events are free and open to the public.Sign up for the Summer
  Reading Program at thrl.beanstack.org!
URL:https://thrl.librarycalendar.com/event/summer-reading-program-ga-untam
 ed-zoo-8258
END:VEVENT
END:VCALENDAR
