BEGIN:VCALENDAR
VERSION:2.0
PRODID:-//Library Market//iCal Export//EN
BEGIN:VEVENT
SUMMARY:Summer Reading Program: Ken Scott Comedy Magic Show
UID:8257
DTSTAMP:20260425T220800Z
DTSTART:20260701T170000Z
DTEND:20260701T180000Z
LOCATION:115 Alford Street, LaGrange, GA 30240, United States
ROOM: Community Room
DESCRIPTION:Magician Ken Scott is back with another fabulous comedy magic 
 show! Join us in the LaGrange Memorial Library Community Room at 1 PM on W
 ednesdays for all your Summer Reading Program fun!All Summer Reading Progr
 am events are free and open to the public.Sign up for the Summer Reading P
 rogram at thrl.beanstack.org!
URL:https://thrl.librarycalendar.com/event/summer-reading-program-ken-scot
 t-comedy-magic-show-8257
END:VEVENT
END:VCALENDAR
