BEGIN:VCALENDAR
VERSION:2.0
PRODID:-//Library Market//iCal Export//EN
BEGIN:VEVENT
SUMMARY:Summer Reading Program: Dinosaur Adventures
UID:8256
DTSTAMP:20260425T220800Z
DTSTART:20260624T170000Z
DTEND:20260624T180000Z
LOCATION:115 Alford Street, LaGrange, GA 30240, United States
ROOM: Community Room
DESCRIPTION:Big Idea Dinosaur Adventures is bringing the prehistoric world
  directly to us with animatronic dinosaurs, hands-on paleontology activiti
 es, and educational adventures that will leave kids (and adults!) absolute
 ly mesmerized! Join us in the LaGrange Memorial Library Community Room at 
 1 PM on Wednesdays for all your Summer Reading Program fun!All Summer Read
 ing Program events are free and open to the public.Sign up for the Summer 
 Reading Program at thrl.beanstack.org!
URL:https://thrl.librarycalendar.com/event/summer-reading-program-dinosaur
 -adventures-8256
END:VEVENT
END:VCALENDAR
