BEGIN:VCALENDAR
VERSION:2.0
PRODID:-//Library Market//iCal Export//EN
BEGIN:VEVENT
SUMMARY:Summer Reading Program: iScience with Dr. White
UID:8254
DTSTAMP:20260424T105100Z
DTSTART:20260617T170000Z
DTEND:20260617T180000Z
LOCATION:115 Alford Street, LaGrange, GA 30240, United States
ROOM: Community Room
DESCRIPTION:Dr. White from iScience will be showing off some &quot;MAD&quo
 t; Science in his fast-paced, delightfully quirky science show packed with
  wild demos and big laughs! Join us in the LaGrange Memorial Library Commu
 nity Room at 1 PM on Wednesdays for all your Summer Reading Program fun!Al
 l Summer Reading Program events are free and open to the public.Sign up fo
 r the Summer Reading Program at thrl.beanstack.org!
URL:https://thrl.librarycalendar.com/event/summer-reading-program-iscience
 -dr-white-8254
END:VEVENT
END:VCALENDAR
