BEGIN:VCALENDAR
VERSION:2.0
PRODID:-//Library Market//iCal Export//EN
BEGIN:VEVENT
SUMMARY:Summer Reading Program: Didgeridoo Down Under
UID:8253
DTSTAMP:20260423T082800Z
DTSTART:20260610T170000Z
DTEND:20260610T180000Z
LOCATION:115 Alford Street, LaGrange, GA 30240, United States
ROOM: Community Room
DESCRIPTION:We&#039;re traveling to Australia with the Didgeridoo Down Und
 er Show! This program is an energetic fusion of Australian music, culture,
  art, science, comedy, character building and audience participation. The
  didgeridoo has been played by Aboriginal Australians for at least 1,500 y
 ears, and is known for its otherworldly sound. This program will be very p
 articipatory, and several segments involve kids playing instruments, danci
 ng, or acting out a story.Join us in the LaGrange Memorial Library Communi
 ty Room at 1 PM on Wednesdays for all your Summer Reading Program fun!All 
 Summer Reading Program events are free and open to the public.Sign up for 
 the Summer Reading Program at thrl.beanstack.org!
URL:https://thrl.librarycalendar.com/event/summer-reading-program-digerido
 o-down-under-8253
END:VEVENT
END:VCALENDAR
