BEGIN:VCALENDAR
VERSION:2.0
PRODID:-//Library Market//iCal Export//EN
BEGIN:VEVENT
SUMMARY:Summer Reading Program: Out of the Box Dino Discovery
UID:8252
DTSTAMP:20260424T204500Z
DTSTART:20260603T170000Z
DTEND:20260603T180000Z
LOCATION:115 Alford Street, LaGrange, GA 30240, United States
ROOM: Community Room
DESCRIPTION:Our first Summer Reading Program visitor is Out of the Box: Di
 no Discovery!Step back 65 million years and experience the most realistic,
  interactive dinosaur encounter available! See and touch real fossils and 
 the tools used to find them and learn all about dinosaurs and how fossils 
 are made with Out of the Box’s Dino Discovery program!Join us in the LaG
 range Memorial Library Community Room at 1 PM on Wednesdays for all your S
 ummer Reading Program fun!All Summer Reading Program events are free and o
 pen to the public. Sign up for the Summer Reading Program at thrl.beansta
 ck.org!
URL:https://thrl.librarycalendar.com/event/summer-reading-program-out-box-
 dino-discovery-8252
END:VEVENT
END:VCALENDAR
