BEGIN:VCALENDAR
VERSION:2.0
PRODID:-//Library Market//iCal Export//EN
BEGIN:VEVENT
SUMMARY:Book Chat
UID:7990
DTSTAMP:20260423T041800Z
DTSTART:20260512T200000Z
DTEND:20260512T220000Z
LOCATION:115 Alford Street, LaGrange, GA 30240, United States
ROOM: Conference Room 1/Board Room
DESCRIPTION:Join us for a &quot;no-pressure&quot; book chat where you can 
 share about a book you&#039;ve been reading and gather ideas for what to r
 ead next from others, second Tuesday of every month at 4:00 pm. Available 
 for our adult patrons. No registration required.
URL:https://thrl.librarycalendar.com/event/book-chat-7990
END:VEVENT
END:VCALENDAR
